        BEGIN:VCALENDAR
VERSION:2.0
PRODID:-//Bethel Christian University - ECPv6.15.20//NONSGML v1.0//EN
CALSCALE:GREGORIAN
METHOD:PUBLISH
X-WR-CALNAME:Bethel Christian University
X-ORIGINAL-URL:https://bcuks.org
X-WR-CALDESC:Events for Bethel Christian University
REFRESH-INTERVAL;VALUE=DURATION:PT1H
X-Robots-Tag:noindex
X-PUBLISHED-TTL:PT1H
BEGIN:VTIMEZONE
TZID:America/Chicago
BEGIN:DAYLIGHT
TZOFFSETFROM:-0600
TZOFFSETTO:-0500
TZNAME:CDT
DTSTART:20240310T080000
END:DAYLIGHT
BEGIN:STANDARD
TZOFFSETFROM:-0500
TZOFFSETTO:-0600
TZNAME:CST
DTSTART:20241103T070000
END:STANDARD
BEGIN:DAYLIGHT
TZOFFSETFROM:-0600
TZOFFSETTO:-0500
TZNAME:CDT
DTSTART:20250309T080000
END:DAYLIGHT
BEGIN:STANDARD
TZOFFSETFROM:-0500
TZOFFSETTO:-0600
TZNAME:CST
DTSTART:20251102T070000
END:STANDARD
BEGIN:DAYLIGHT
TZOFFSETFROM:-0600
TZOFFSETTO:-0500
TZNAME:CDT
DTSTART:20260308T080000
END:DAYLIGHT
BEGIN:STANDARD
TZOFFSETFROM:-0500
TZOFFSETTO:-0600
TZNAME:CST
DTSTART:20261101T070000
END:STANDARD
END:VTIMEZONE
BEGIN:VTIMEZONE
TZID:UTC
BEGIN:STANDARD
TZOFFSETFROM:+0000
TZOFFSETTO:+0000
TZNAME:UTC
DTSTART:20240101T000000
END:STANDARD
END:VTIMEZONE
BEGIN:VEVENT
DTSTART;TZID=America/Chicago:20250607T093000
DTEND;TZID=America/Chicago:20250607T140000
DTSTAMP:20260420T132957
CREATED:20250422T040947Z
LAST-MODIFIED:20250422T052406Z
UID:16380-1749288600-1749304800@bcuks.org
SUMMARY:Workers and Ministers Conference
DESCRIPTION:Workers and Ministers Conference \n  \n\n 
URL:https://bcuks.org/event/workers-and-ministers-conference/
LOCATION:Topeka & Shawnee County Public Library\, Marvin Auditorium 101A\, 1515 SW Ave.\, Topeka\, KS\, 66604\, United States
ORGANIZER;CN="Bethel Christian University":MAILTO:info@bcuks.org
END:VEVENT
BEGIN:VEVENT
DTSTART;TZID=UTC:20250101T080000
DTEND;TZID=UTC:20251231T170000
DTSTAMP:20260420T132957
CREATED:20250101T032250Z
LAST-MODIFIED:20250101T034926Z
UID:16161-1735718400-1767200400@bcuks.org
SUMMARY:BCU Global University Graduation\, Abuja\, Nigeria 2024
DESCRIPTION:BCU Global University Graduation\, Abuja\, Nigeria 2024
URL:https://bcuks.org/event/world-university-convocation-in-abuja-nigeria/
LOCATION:KS
ATTACH;FMTTYPE=image/jpeg:https://bcuks.org/wp-content/uploads/2025/01/Picture1.jpg
END:VEVENT
END:VCALENDAR